View In:
  ArcGIS JavaScript
  ArcGIS Online Map Viewer
  ArcGIS Earth
Service Description:  OpenAccess/CC_Imagery_1979
Name:  OpenAccess/CC_Imagery_1979
Description:  
Single Fused Map Cache:  false
Extent: 
XMin: 435997.54800479126
YMin: 98394.05313493485
XMax: 564574.9161319203
YMax: 225828.98312651584
Spatial Reference: 103717
 (103717)
 LatestVCSWkid(0)
Initial Extent: 
XMin: 435997.54800479126
YMin: 98394.05313493485
XMax: 564574.9161319203
YMax: 225828.98312651584
Spatial Reference: 103717
 (103717)
 LatestVCSWkid(0)
Full Extent: 
XMin: 435997.54800479126
YMin: 98394.05313493485
XMax: 564574.9161319203
YMax: 225828.98312651584
Spatial Reference: 103717
 (103717)
 LatestVCSWkid(0)
Pixel Size X:  2.527517999000001
Pixel Size Y:  2.527517999
Band Count: 3
Pixel Type: U8
RasterFunction Infos:  {"rasterFunctionInfos": [{
 "name": "None",
 "description": "A No-Op Function.",
 "help": ""
}]}
Mensuration Capabilities: None
Inspection Capabilities: 
Has Histograms:  true
Has Colormap:  false
Has Multi Dimensions :  false
Rendering Rule: 
Min Scale:  0
Max Scale:  0
Copyright Text:  
Service Data Type:  esriImageServiceDataTypeRGB
Min Values:  24, 20, 24
Max Values:  255, 255, 255
Mean Values:  136.47171913377593, 134.6413480946475, 135.6058811191362
Standard Deviation Values:  47.33304665160859, 46.03907971772599, 46.23745464696429
Object ID Field:  OBJECTID
Fields: 
- 
OBJECTID
(
type: esriFieldTypeOID, alias: OBJECTID
)
 
- 
Name
(
type: esriFieldTypeString, alias: Name, length: 50
)
 
- 
MinPS
(
type: esriFieldTypeDouble, alias: MinPS
)
 
- 
MaxPS
(
type: esriFieldTypeDouble, alias: MaxPS
)
 
- 
LowPS
(
type: esriFieldTypeDouble, alias: LowPS
)
 
- 
HighPS
(
type: esriFieldTypeDouble, alias: HighPS
)
 
- 
Category
(
type: esriFieldTypeInteger, alias: Category
)
 
- 
Tag
(
type: esriFieldTypeString, alias: Tag, length: 20
)
 
- 
GroupName
(
type: esriFieldTypeString, alias: GroupName, length: 50
)
 
- 
ProductName
(
type: esriFieldTypeString, alias: ProductName, length: 50
)
 
- 
CenterX
(
type: esriFieldTypeDouble, alias: CenterX
)
 
- 
CenterY
(
type: esriFieldTypeDouble, alias: CenterY
)
 
- 
ZOrder
(
type: esriFieldTypeDouble, alias: ZOrder
)
 
- 
SOrder
(
type: esriFieldTypeDouble, alias: SOrder
)
 
- 
StereoID
(
type: esriFieldTypeString, alias: StereoID, length: 50
)
 
- 
Shape
(
type: esriFieldTypeGeometry, alias: Shape
)
 
Default Mosaic Method:  Center
Allowed Mosaic Methods:  Center,NorthWest,LockRaster,ByAttribute,Nadir,Viewpoint,Seamline,None
SortField:  
SortValue:  null
Mosaic Operator:  First
Default Compression Quality:  75
Default Resampling Method:  Bilinear
Max Record Count:  1000
Max Image Height:  4100
Max Image Width:  15000
Max Download Image Count:  20
Max Mosaic Image Count:  20
Allow Raster Function:  true
Allow Copy:  true
Allow Analysis:  true
Allow Compute TiePoints:  false
Supports Statistics:  true
Supports Advanced Queries:  true
Use StandardizedQueries:  true
Raster Type Infos: 
Name: Raster Dataset
Description: Supports all ArcGIS Raster Datasets
Help: 
Has Raster Attribute Table:  false
Edit Fields Info:  null
Ownership Based AccessControl For Rasters:  null
Child Resources:
  
Info
  Histograms
  Statistics
  Key Properties
  Legend
  Raster Function Infos
Supported Operations:
  
Export Image
  Query
  Identify
  Compute Histograms
  Compute Statistics Histograms
  Get Samples
  Compute Class Statistics
  Query GPS Info
  Find Images
  Image to Map
  Map to Image
  Measure from Image
  Image to Map Multiray
  Query Boundary
  Compute Pixel Location
  Compute Angles
  Validate
  Project