View In:
  ArcGIS JavaScript
  ArcGIS Online Map Viewer
  ArcGIS Earth
Service Description:  OpenAccess/CC_Imagery_1969
Name:  OpenAccess/CC_Imagery_1969
Description:  
Single Fused Map Cache:  false
Extent: 
XMin: 419770.2028857045
YMin: 4941217.738405113
XMax: 459223.6942707045
YMax: 4983804.192502113
Spatial Reference: 26915
 (26915)
 LatestVCSWkid(0)
Initial Extent: 
XMin: 419770.2028857045
YMin: 4941217.738405113
XMax: 459223.6942707045
YMax: 4983804.192502113
Spatial Reference: 26915
 (26915)
 LatestVCSWkid(0)
Full Extent: 
XMin: 419770.2028857045
YMin: 4941217.738405113
XMax: 459223.6942707045
YMax: 4983804.192502113
Spatial Reference: 26915
 (26915)
 LatestVCSWkid(0)
Pixel Size X:  0.821007
Pixel Size Y:  0.821006999999999
Band Count: 3
Pixel Type: U16
RasterFunction Infos:  {"rasterFunctionInfos": [{
 "name": "None",
 "description": "A No-Op Function.",
 "help": ""
}]}
Mensuration Capabilities: 
Inspection Capabilities: 
Has Histograms:  false
Has Colormap:  false
Has Multi Dimensions :  false
Rendering Rule: 
Min Scale:  0
Max Scale:  0
Copyright Text:  
Service Data Type:  esriImageServiceDataTypeGeneric
Min Values:  0, 0, 0
Max Values:  257, 257, 257
Mean Values:  154.33086988514572, 151.65755714445672, 150.86521643506947
Standard Deviation Values:  45.83571781624706, 44.54103149748056, 44.20576260742623
Object ID Field:  OBJECTID
Fields: 
- 
OBJECTID
(
type: esriFieldTypeOID, alias: OBJECTID
)
 
- 
Name
(
type: esriFieldTypeString, alias: Name, length: 50
)
 
- 
MinPS
(
type: esriFieldTypeDouble, alias: MinPS
)
 
- 
MaxPS
(
type: esriFieldTypeDouble, alias: MaxPS
)
 
- 
LowPS
(
type: esriFieldTypeDouble, alias: LowPS
)
 
- 
HighPS
(
type: esriFieldTypeDouble, alias: HighPS
)
 
- 
Category
(
type: esriFieldTypeInteger, alias: Category
)
 
- 
Tag
(
type: esriFieldTypeString, alias: Tag, length: 20
)
 
- 
GroupName
(
type: esriFieldTypeString, alias: GroupName, length: 50
)
 
- 
ProductName
(
type: esriFieldTypeString, alias: ProductName, length: 50
)
 
- 
CenterX
(
type: esriFieldTypeDouble, alias: CenterX
)
 
- 
CenterY
(
type: esriFieldTypeDouble, alias: CenterY
)
 
- 
ZOrder
(
type: esriFieldTypeDouble, alias: ZOrder
)
 
- 
SOrder
(
type: esriFieldTypeDouble, alias: SOrder
)
 
- 
StereoID
(
type: esriFieldTypeString, alias: StereoID, length: 50
)
 
- 
Shape
(
type: esriFieldTypeGeometry, alias: Shape
)
 
Default Mosaic Method:  Center
Allowed Mosaic Methods:  Center,NorthWest,LockRaster,ByAttribute,Nadir,Viewpoint,Seamline,None
SortField:  
SortValue:  null
Mosaic Operator:  First
Default Compression Quality:  75
Default Resampling Method:  Bilinear
Max Record Count:  1000
Max Image Height:  4100
Max Image Width:  15000
Max Download Image Count:  20
Max Mosaic Image Count:  20
Allow Raster Function:  true
Allow Copy:  true
Allow Analysis:  true
Allow Compute TiePoints:  false
Supports Statistics:  true
Supports Advanced Queries:  true
Use StandardizedQueries:  true
Raster Type Infos: 
Name: Raster Dataset
Description: Supports all ArcGIS Raster Datasets
Help: 
Has Raster Attribute Table:  false
Edit Fields Info:  null
Ownership Based AccessControl For Rasters:  null
Child Resources:
  
Info
  Statistics
  Key Properties
  Legend
  Raster Function Infos
Supported Operations:
  
Export Image
  Query
  Identify
  Measure
  Compute Histograms
  Compute Statistics Histograms
  Get Samples
  Compute Class Statistics
  Query GPS Info
  Find Images
  Image to Map
  Map to Image
  Measure from Image
  Image to Map Multiray
  Query Boundary
  Compute Pixel Location
  Compute Angles
  Validate
  Project